BEGIN:VCALENDAR
VERSION:2.0
METHOD:PUBLISH
X-WR-CALNAME: Events\, Meetups\, Camps & Training | Drupal Groups
PRODID:-//Drupal iCal API//EN
BEGIN:VEVENT
UID:calendar.537318.field_start7.0.0
SUMMARY:Drupal Drinks Edinburgh - May 2026
DTSTAMP:20260422T225231Z
DTSTART:20260506T173000Z
DTEND:20260506T173000Z
URL;VALUE=URI:https://groups.drupal.org/node/537318
END:VEVENT
BEGIN:VEVENT
UID:calendar.537316.field_start7.0.1
SUMMARY:Drupal AI Summit NYC
DTSTAMP:20260422T225231Z
DTSTART:20260513Z
DTEND:20260514Z
URL;VALUE=URI:https://groups.drupal.org/node/537316
END:VEVENT
END:VCALENDAR
